BEGIN:VCALENDAR
VERSION:2.0
PRODID:-//Coalition on Human Needs - ECPv6.15.20//NONSGML v1.0//EN
CALSCALE:GREGORIAN
METHOD:PUBLISH
X-WR-CALNAME:Coalition on Human Needs
X-ORIGINAL-URL:https://www.chn.org
X-WR-CALDESC:Events for Coalition on Human Needs
REFRESH-INTERVAL;VALUE=DURATION:PT1H
X-Robots-Tag:noindex
X-PUBLISHED-TTL:PT1H
BEGIN:VTIMEZONE
TZID:America/New_York
BEGIN:DAYLIGHT
TZOFFSETFROM:-0500
TZOFFSETTO:-0400
TZNAME:EDT
DTSTART:20180311T070000
END:DAYLIGHT
BEGIN:STANDARD
TZOFFSETFROM:-0400
TZOFFSETTO:-0500
TZNAME:EST
DTSTART:20181104T060000
END:STANDARD
BEGIN:DAYLIGHT
TZOFFSETFROM:-0500
TZOFFSETTO:-0400
TZNAME:EDT
DTSTART:20190310T070000
END:DAYLIGHT
BEGIN:STANDARD
TZOFFSETFROM:-0400
TZOFFSETTO:-0500
TZNAME:EST
DTSTART:20191103T060000
END:STANDARD
BEGIN:DAYLIGHT
TZOFFSETFROM:-0500
TZOFFSETTO:-0400
TZNAME:EDT
DTSTART:20200308T070000
END:DAYLIGHT
BEGIN:STANDARD
TZOFFSETFROM:-0400
TZOFFSETTO:-0500
TZNAME:EST
DTSTART:20201101T060000
END:STANDARD
END:VTIMEZONE
BEGIN:VEVENT
DTSTART;VALUE=DATE:20190722
DTEND;VALUE=DATE:20190725
DTSTAMP:20260422T183059
CREATED:20190513T203245Z
LAST-MODIFIED:20200617T204841Z
UID:10000178-1563753600-1564012799@www.chn.org
SUMMARY:National Alliance to End Homelessness: 2019 National Conference on Ending Homelessness and Capitol Hill Day
DESCRIPTION:The 2019 National Conference on Ending Homelessness and Capitol Hill Day is the nation’s largest convening of service providers\, leaders\, advocates\, and consumers working to end homelessness in the United States. This year’s July conference will feature dedicated tracks focused on families and youth experiencing homelessness\, updated content on chronic homelessness\, veterans\, single adults\, and other populations. Capitol Hill Day will offer an opportunity to speak with members of Congress and their staff\, and advocate directly for the resources that will benefit homeless families and youth in your districts. \n\n\n	Related
URL:https://www.chn.org/event/national-alliance-to-end-homelessness-2019-national-conference-on-ending-homelessness-and-capitol-hill-day/
LOCATION:Washington Marriott Wardman Park\, 2660 Woodley Rd. NW\, Washington\, DC\, 20008\, United States
CATEGORIES:Event
END:VEVENT
END:VCALENDAR